BEGIN:VCALENDAR
VERSION:2.0
PRODID:-//Namahsì - ECPv6.15.17.1//NONSGML v1.0//EN
CALSCALE:GREGORIAN
METHOD:PUBLISH
X-WR-CALNAME:Namahsì
X-ORIGINAL-URL:https://namahsi.com
X-WR-CALDESC:Eventi per Namahsì
REFRESH-INTERVAL;VALUE=DURATION:PT1H
X-Robots-Tag:noindex
X-PUBLISHED-TTL:PT1H
BEGIN:VTIMEZONE
TZID:UTC
BEGIN:STANDARD
TZOFFSETFROM:+0000
TZOFFSETTO:+0000
TZNAME:UTC
DTSTART:20250101T000000
END:STANDARD
END:VTIMEZONE
BEGIN:VEVENT
DTSTART;TZID=UTC:20260318T080000
DTEND;TZID=UTC:20260506T170000
DTSTAMP:20260421T024709
CREATED:20260212T170535Z
LAST-MODIFIED:20260212T170535Z
UID:4729-1773820800-1778086800@namahsi.com
SUMMARY:Psicosomatica Sistemica. Specializzazione Online
DESCRIPTION:IL CORPO NON MENTE\nSpecializzazione Online di Psicosomatica Sistemica\n8 incontri per comprendere il linguaggio profondo del corpo \n\nIl corpo non è un nemico.\nNon è un errore.Non è qualcosa da combattere. \nIl corpo è un campo di memoria.Un luogo in cui si intrecciano vissuti personali\, relazioni significative e dinamiche familiari. \nMolti segnali corporei possono essere letti come espressioni simboliche di movimenti interiori\, appartenenze invisibili o emozioni non elaborate. \nLa Psicosomatica Sistemica offre uno sguardo che integra corpo\, relazioni e sistema familiare in una visione unitaria. \nQuesta Specializzazione Online nasce per approfondire questa lettura in modo chiaro\, strutturato e accessibile. \n\nLa Specializzazione è tenuta da Lorenzo Postacchini\nFondatore di NamahSì – Accademia di Arti Olistiche.Counselor Olistico accreditato SIAF Italia. \nDa oltre 15 anni accompagna persone e gruppi attraverso le Costellazioni Familiari e il lavoro sistemico\, integrando corpo\, campo relazionale e dimensione simbolica in un approccio fenomenologico e spirituale. \nIl suo lavoro si fonda su una visione corpo-mente-spirito e sul rispetto del codice deontologico professionale. \n\nA chi è rivolta\nLa Specializzazione è aperta a: \n\n\nchi desidera comprendere meglio il linguaggio del proprio corpo \n\n\nchi è in cammino di crescita personale \n\n\noperatori olistici e facilitatori che desiderano ampliare il proprio sguardo sistemico \n\n\nchi ha già frequentato percorsi di Costellazioni Familiari \n\n\nNon è necessario avere competenze pregresse. \n\nStruttura della Specializzazione\n\n\n8 incontri online \n\n\nDal 18 marzo al 6 maggio 2026 \n\n\nOgni martedì \n\n\nOrario: 19:00 – 21:30 (Italia) \n\n\nTotale: 20 ore formative \n\n\nRegistrazioni disponibili \n\n\nMateriale di approfondimento incluso \n\n\nIl percorso è teorico-esperienziale e alterna spiegazione\, esempi pratici ed esercizi guidati di consapevolezza. \n\nProgramma\n1° incontro – Il corpo come campo sistemico\nIntroduzione alla Psicosomatica Sistemica e alla lettura simbolica del corpo. \n2° incontro – Appartenenza ed esclusioni\nLe dinamiche familiari e il loro possibile riflesso nel corpo. \n3° incontro – Movimento interrotto e radice materna\nIl legame originario e la sua impronta nel vissuto corporeo. \n4° incontro – Padre\, direzione e realizzazione\nEnergia paterna\, autonomia e orientamento nella vita. \n5° incontro – Lealtà invisibili e ripetizioni\nQuando il corpo esprime fedeltà inconsce al sistema familiare. \n6° incontro – Emozioni non espresse e somatizzazione simbolica\nIl corpo come spazio di elaborazione e memoria emotiva. \n7° incontro – Corpo\, confini e identità\nRelazione\, centratura e struttura personale. \n8° incontro – Integrazione e lettura sistemica completa\nVisione d’insieme e strumenti di osservazione consapevole. \n\nCosa porterai con te\n\n\nUna nuova capacità di ascolto del corpo \n\n\nUna comprensione sistemica delle dinamiche relazionali \n\n\nStrumenti di consapevolezza applicabili nella vita quotidiana \n\n\nUna visione integrata corpo-mente-relazioni \n\n\n\nAttestato\nAl termine della Specializzazione verrà rilasciato un Attestato di Frequenza da parte dell’Associazione Culturale NamahSì. \n\nApproccio e specifiche\nLa Specializzazione ha finalità formative e di crescita personale secondo un approccio olistico corpo-mente-spirito. \nNon sostituisce percorsi medici o psicologici e non prevede diagnosi\, trattamenti o interventi di natura clinica. \n\nInvestimento\nSuper Early Bird – 490€(valido per le prime 10 iscrizioni) \nEarly Bird – 590€(valido fino al 7 marzo) \nPrezzo pieno – 750€ \nPossibilità di pagamento rateizzato. \n\nPosti limitati\nLa Specializzazione è a numero chiuso per garantire qualità\, spazio e profondità. \n\nIscrizione\n\n\n  \n\n\n\n\n \n \n\n \n \n\n \n \n\n \n \nAutorizzo il trattamento dei miei dati personali ai sensi del Decreto Legislativo 30 giugno 2003\, n. 196 “Codice in materia di protezione dei dati personali” e del GDPR (Regolamento UE 2016/679).\n \n\n \n\n	*Campi obbligatori
URL:https://namahsi.com/event/psicosomatica-sistemica-specializzazione-online/
LOCATION:Online
ATTACH;FMTTYPE=image/jpeg:https://namahsi.com/wp-content/uploads/2026/02/specializzazione-psicosomatica.jpg
END:VEVENT
BEGIN:VEVENT
DTSTART;TZID=UTC:20260421T190000
DTEND;TZID=UTC:20260421T210000
DTSTAMP:20260421T024709
CREATED:20260408T125737Z
LAST-MODIFIED:20260408T125932Z
UID:4817-1776798000-1776805200@namahsi.com
SUMMARY:PSICOSOMATICA SISTEMICA - I SINTOMI DEL PADRE E DELLA MADRE
DESCRIPTION:I SINTOMI DEL PADRE E DELLA MADRE\nIl corpo\, il sistema familiare e la tua direzione nella vita\n\n2 webinar da 2 ore ciascuno\n\n✨ Ci sono sintomi che non nascono da te.\nCi sono blocchi che non riesci a spiegare.Relazioni che si ripetono.Fatiche nel lavoro.Difficoltà nel corpo\, nelle emozioni\, nella direzione. \nE più provi a cambiare…più qualcosa ti riporta sempre lì. \nPerché? \nPerché molte di queste dinamichenon iniziano da te. \n\n🌿 Il corpo parla ciò che la famiglia tace\nNel corpo si manifestano tensioni\, blocchi\, sintomiche spesso hanno radici profonde nel sistema familiare. \nNon sono casuali.Non sono “contro di te”. \nSono informazioni.Sono memoria.Sono movimenti irrisoltitra te… e le tue origini. \n\n🔥 Madre e Padre: due forze fondamentali\nDentro di te vivono due energie fondamentali: \n👨 Il Padre\n\ndirezione\nrealizzazione\nlavoro\ndenaro\ncapacità di stare nel mondo\n\nSe la relazione con il padre è in disordine\, potresti vivere: \n\nblocchi nel lavoro\nautosabotaggio\ndifficoltà a realizzarti\npaura di esporsi\n\n\n👩 La Madre\n\ncorpo\nemozioni\nrelazioni\ncapacità di ricevere\nsenso di appartenenza\n\nSe la relazione con la madre è in disordine\, potresti vivere: \n\ndifficoltà nelle relazioni\ndipendenza affettiva\nrifiuto del corpo\nblocchi emotivi\nfatica a ricevere amore e abbondanza\n\n\n⚠️ Se questi due poli non sono in equilibrio…\nla tua energia si disperde. \nE questo si riflette in: \n\nrelazioni complesse\nprogetti che non decollano\nsenso di fatica o confusione\nsintomi nel corpo\n\n\n🌿 Cosa faremo in questo webinar\nDurante questo percorso lavoreremo su entrambi i poli:madre e padre\, corpo e direzione. \nUnendo comprensione\, esperienza e ascolto. \n\n🔹 21 APRILE – I Sintomi del Padre\n\nIl padre come direzione e autorizzazione\nI blocchi legati al lavoro e alla realizzazione\nLettura sistemica dei sintomi\nDinamiche inconsce con la linea paterna\nEsercizio guidato di contatto con il padre interiore\n\n\n🔹 28 APRILE – I Sintomi della Madre\n\nLa madre come radice e corpo\nI blocchi nelle relazioni e nelle emozioni\nLettura sistemica dei sintomi corporei\nMovimento interrotto verso la madre\nEsercizio guidato di riconnessione\n\n\n🌟 Per chi è questo webinar\nPer te se senti che: \n\nripeti sempre le stesse dinamiche\nfai fatica a realizzarti\nvivi relazioni complesse\nsenti blocchi nel corpo o nelle emozioni\nvuoi comprendere più profondamente te stesso/a\nsenti che è il momento di rimettere ordine\n\n\n💫 Cosa porterai con te\n\nuna nuova lettura dei tuoi sintomi\nmaggiore chiarezza sulla tua storia\nconsapevolezza dei tuoi blocchi\nun primo movimento interiore verso l’ordine\nstrumenti pratici da integrare nella tua vita\n\n\n📍 Dettagli\n🗓 Date: 21 e 28 Aprile dalle 19 alle 21⏰ Durata: 2 webinar da 2 ore ciascuno💻 Modalità: online (live + registrazione disponibile) \n💸 Costo: 120€ \n🔥 Prezzo di lancio: 87€ per i primi 10 iscritti \n\n💚 Un passaggio fondamentale\nNon si tratta di colpe.Non si tratta di analizzare. \nSi tratta di vedere.Riconoscere.Rimettere ordine. \nPerché quando torni al tuo posto…l’energia torna a fluire. \nE la vita cambia direzione. \n\n⚠️ Nota importante\nQuesto webinar ha finalità educative e di crescita personale.Non sostituisce percorsi medici o psicologici. \n\nSCRIVI PER PRENOTARE\n\n\n\n  \n\n\n\n\n \n \n\n \n \n\n \n \nAutorizzo il trattamento dei miei dati personali ai sensi del Decreto Legislativo 30 giugno 2003\, n. 196 “Codice in materia di protezione dei dati personali” e del GDPR (Regolamento UE 2016/679).\n \n\n \n*Campi obbligatori
URL:https://namahsi.com/event/sintomi-padre-madre-webinar/
ATTACH;FMTTYPE=image/jpeg:https://namahsi.com/wp-content/uploads/2026/04/I-SINTOMI-DEL-PADRE-E-DELLA-MADRE.jpg
END:VEVENT
END:VCALENDAR