BEGIN:VCALENDAR
VERSION:2.0
PRODID:-//Namahsì - ECPv6.15.17.1//NONSGML v1.0//EN
CALSCALE:GREGORIAN
METHOD:PUBLISH
X-ORIGINAL-URL:https://namahsi.com
X-WR-CALDESC:Eventi per Namahsì
REFRESH-INTERVAL;VALUE=DURATION:PT1H
X-Robots-Tag:noindex
X-PUBLISHED-TTL:PT1H
BEGIN:VTIMEZONE
TZID:UTC
BEGIN:STANDARD
TZOFFSETFROM:+0000
TZOFFSETTO:+0000
TZNAME:UTC
DTSTART:20220101T000000
END:STANDARD
END:VTIMEZONE
BEGIN:VEVENT
DTSTART;TZID=UTC:20230630T183000
DTEND;TZID=UTC:20230630T230000
DTSTAMP:20260420T104957
CREATED:20230524T105248Z
LAST-MODIFIED:20230531T103543Z
UID:3783-1688149800-1688166000@namahsi.com
SUMMARY:Ecstatic Dance: Sacred Dance e Pizza
DESCRIPTION:Abbiamo deciso di aprire uno spazio interamente dedicato alla Danza\, al movimento\, all’esplorazione fisica\, rituale e sociale! \nOgni venerdì d’estate a Namahsì ci saranno cerimonie di Ecstatic Dance accompagnate e Facilitate da un Ecstatic Dance Dj.  \nIl momento dedicato alla Danza\, sarà un vero e proprio viaggio di esplorazione di se stessi e del mondo circostante\, uno spazio cerimoniale dedicato all’espressione corporea\, libera e spirituale!  \n  \nCHE COS’E’ L’ECSTATIC DANCE \nL’Ecstatic Dance è una forma di danza libera che invita i ballerini a connettersi a se stessi e agli altri\, attraverso il movimento spontaneo a ritmo di musica. \nAttraverso questa pratica si possono percepire profondi stati di rilassamento\, di benessere e di riallineamento e di ri-allineamento di corpo\, mente e spirito.  \nIn particolare i danzatori sacri attraverso una pratica consapevole hanno l’opportunità di vivere profondi momenti di presenza e di meditazione\, hanno la possibilità di esprimere\, in uno spazio protetto\, il loro bambino interiore\, la purezza e la vera\, pura e innata essenza.  \nGli spazi cerimoniali non utilizzano un genere musicale predefinito e sono suonati dal vivo da un Ecstatic Dance Dj.  \nLa cerimonia inizia in cerchio e sarà facilitata da un Facilitatore che guiderà inizialmente la danza attraverso meditazioni guidate e movimenti studiati per guidare il viaggio interiore\, dopodiché nel cuore della cerimonia\, lo spazio sarà guidato dalla musica e dal ritmo\, infine ci sarà uno spazio di integrazione e di ritorno. \nNon ci sono regole particolari\, ma linee guida e sono le seguenti: \n\nNon si parla durante la danza. L’Ecstatic Dance è una pratica fatta in silenzio\, puoi comunicare con gli altri attraverso il linguaggio del corpo ma non con le parole.\nNon si utilizza Alcoll\, non si fumano sigarette\, non si utilizzano droghe. L’Ecstatic Dance è una pratica consapevole che abbraccia la presenza.\nNon si utilizzano Cellulari! Incoraggiamo la presenza! Tutta la nostra attenzione è nel presente e nella danza!\nRispetto di se stessi e degli altri! Chiediamo ai partecipanti di prendere la responsabilità di se stessi e di fare attenzione dello spazio personale dell’altro.\nSe lo spazio lo permette è meglio danzare senza scarpe. Essere in contatto con la terra ci aiuta nel nostro viaggio di consapevolezza!\n\nVi invitiamo a vestire abiti comodi e colorati! I bambini sono i benvenuti nello spazio cerimoniale! \nProgramma \n18.30-19 Arrivo \n19-21.30 Ecstatic Dance \n22 Pizza Night \nPrezzo \n33 euro all Inclusive
URL:https://namahsi.com/event/ecstatic-dance-sacred-dance-romagna/
LOCATION:Centro Studi Discipline Olistiche Namahsì\, via Cò di Sasso\, 25\, Brisighella\, 48013\, Italia
ATTACH;FMTTYPE=image/jpeg:https://namahsi.com/wp-content/uploads/2023/05/ecstatic-dance-venerdi.jpg
END:VEVENT
END:VCALENDAR